BEGIN:VCALENDAR
VERSION:2.0
PRODID:-//Llanrhian Connected Community - ECPv5.14.1//NONSGML v1.0//EN
CALSCALE:GREGORIAN
METHOD:PUBLISH
X-WR-CALNAME:Llanrhian Connected Community
X-ORIGINAL-URL:https://www.connectedcommunity.wales
X-WR-CALDESC:Events for Llanrhian Connected Community
REFRESH-INTERVAL;VALUE=DURATION:PT1H
X-Robots-Tag:noindex
X-PUBLISHED-TTL:PT1H
BEGIN:VTIMEZONE
TZID:UTC
BEGIN:STANDARD
TZOFFSETFROM:+0000
TZOFFSETTO:+0000
TZNAME:UTC
DTSTART:20220101T000000
END:STANDARD
END:VTIMEZONE
BEGIN:VEVENT
DTSTART;TZID=UTC:20220331T080000
DTEND;TZID=UTC:20220331T170000
DTSTAMP:20260425T121953
CREATED:20220329T143804Z
LAST-MODIFIED:20220329T144251Z
UID:423-1648713600-1648746000@www.connectedcommunity.wales
SUMMARY:Test Event
DESCRIPTION:Test Event
URL:https://www.connectedcommunity.wales/event/test-event/
LOCATION:Llanrhian Church Hall\, Llanrhian\, St Davids\, Pembrokeshire\, SA62 5BG\, United Kingdom
CATEGORIES:Meetings
ATTACH;FMTTYPE=image/jpeg:https://www.connectedcommunity.wales/wp-content/uploads/2021/07/tl2.jpg
END:VEVENT
END:VCALENDAR